{"text_format":"2","workbook":"xlsx","n_sheets":4,"sheets":["1.집계표(구분1)","2.집계표(구분2)","3. 교육이수 현황(소속 기준)","4. 교육이수 현황(이수율 기준)"],"not_rendered":{"charts":0,"images":0,"macros":0,"external_links":0,"defined_names":3,"comments":0,"pivot_tables":0},"unopened":[],"bounds":{"document_bytes":16777216,"sheet_cells":100000,"run_cost":"one","rows_first":2000,"rows_last":500,"rows_between":2000,"halvings":0,"cell_chars":16384,"cell_head_chars":4096},"cells_cut":0,"cells_raw":0,"read":"whole","date_system":"1900"}

{"sheet":"1.집계표(구분1)","index":0,"n_rows":9,"n_cols":6,"rows_kept":9,"cut":false,"hidden":false,"merged":[[1,0,1,5],[2,0,2,2],[2,3,2,5],[8,0,8,1]]}
[]
["2025학년도 2학기 연구활동종사자 정기안전교육 이수율 집계표[최종]"]
[null,null,null,"[기준: 2025.10.27.최종]"]
["구 분","대학/기관","대상자(명)","이수자(명)","미이수자(명)","이수율(%)"]
["교원","교원/직원",{"$f":"'2.집계표(구분2)'!C7","v":155},{"$f":"'2.집계표(구분2)'!D7","v":54},{"$f":"C5-D5","v":101},{"$f":"D5/C5","v":0.34838709677419355}]
["학부생","전체",{"$f":"'2.집계표(구분2)'!C13","v":3442},{"$f":"'2.집계표(구분2)'!D13","v":899},{"$f":"C6-D6","v":2543},0.26118535735037768]
["대학원생","전체",{"$f":"'2.집계표(구분2)'!C17","v":645},{"$f":"'2.집계표(구분2)'!D17","v":253},{"$f":"C7-D7","v":392},0.39224806201550388]
["연구원","원주산학협력단",{"$f":"'2.집계표(구분2)'!C19","v":42},{"$f":"'2.집계표(구분2)'!D19","v":19},{"$f":"C8-D8","v":23},0.45238095238095238]
["합계",null,{"$f":"SUM(C5:C8)","v":4284},{"$f":"SUM(D5:D8)","v":1225},{"$f":"SUM(E5:E8)","v":3059},{"$f":"D9/C9","v":0.28594771241830064}]

{"sheet":"2.집계표(구분2)","index":1,"n_rows":20,"n_cols":6,"rows_kept":20,"cut":false,"hidden":false,"merged":[[13,0,15,0],[16,0,16,1],[19,0,19,1],[1,0,1,5],[2,0,2,2],[2,3,2,5],[6,0,6,1],[12,0,12,1],[18,0,18,1],[7,0,11,0]]}
[]
["2025학년도 2학기 연구활동종사자 정기안전교육 이수율 집계표"]
[null,null,null,{"$f":"'1.집계표(구분1)'!D3:F3","v":"[기준: 2025.10.27.최종]"}]
["구 분","대학/기관","대상자(명)","이수자(명)","미이수자(명)","이수율(%)"]
["교원","교원",{"$f":"'3. 교육이수 현황(소속 기준)'!E5","v":145},{"$f":"'3. 교육이수 현황(소속 기준)'!F5","v":49},{"$f":"C5-D5","v":96},{"$f":"D5/C5","v":0.33793103448275863}]
["직원","실습지원 직원",{"$f":"'3. 교육이수 현황(소속 기준)'!E7","v":10},{"$f":"'3. 교육이수 현황(소속 기준)'!F7","v":5},{"$f":"C6-D6","v":5},{"$f":"D6/C6","v":0.5}]
["소 계",null,{"$f":"SUM(C5:C6)","v":155},{"$f":"SUM(D5:D6)","v":54},{"$f":"SUM(C7-D7)","v":101},{"$f":"D7/C7","v":0.34838709677419355}]
["학부생","글로벌창의융합대학\n디자인예술학부",{"$f":"'3. 교육이수 현황(소속 기준)'!E71+'3. 교육이수 현황(소속 기준)'!E72+'3. 교육이수 현황(소속 기준)'!E73+'3. 교육이수 현황(소속 기준)'!E74+'3. 교육이수 현황(소속 기준)'!E75+'3. 교육이수 현황(소속 기준)'!E112+'3. 교육이수 현황(소속 기준)'!E113+'3. 교육이수 현황(소속 기준)'!E114+'3. 교육이수 현황(소속 기준)'!E115","v":253},{"$f":"'3. 교육이수 현황(소속 기준)'!F71+'3. 교육이수 현황(소속 기준)'!F72+'3. 교육이수 현황(소속 기준)'!F73+'3. 교육이수 현황(소속 기준)'!F74+'3. 교육이수 현황(소속 기준)'!F75+'3. 교육이수 현황(소속 기준)'!F112+'3. 교육이수 현황(소속 기준)'!F113+'3. 교육이수 현황(소속 기준)'!F114+'3. 교육이수 현황(소속 기준)'!F115","v":58},{"$f":"C8-D8","v":195},{"$f":"D8/C8","v":0.22924901185770752}]
[null,"과학기술융합대학\n(과학기술대학 포함)",{"$f":"'3. 교육이수 현황(소속 기준)'!E51+'3. 교육이수 현황(소속 기준)'!E52+'3. 교육이수 현황(소속 기준)'!E53+'3. 교육이수 현황(소속 기준)'!E54+'3. 교육이수 현황(소속 기준)'!E55+'3. 교육이수 현황(소속 기준)'!E59+'3. 교육이수 현황(소속 기준)'!E60+'3. 교육이수 현황(소속 기준)'!E61+'3. 교육이수 현황(소속 기준)'!E62+'3. 교육이수 현황(소속 기준)'!E63+'3. 교육이수 현황(소속 기준)'!E64+'3. 교육이수 현황(소속 기준)'!E65+'3. 교육이수 현황(소속 기준)'!E66+'3. 교육이수 현황(소속 기준)'!E67+'3. 교육이수 현황(소속 기준)'!E68+'3. 교육이수 현황(소속 기준)'!E69+'3. 교육이수 현황(소속 기준)'!E70+'3. 교육이수 현황(소속 기준)'!E89+'3. 교육이수 현황(소속 기준)'!E90","v":587},{"$f":"'3. 교육이수 현황(소속 기준)'!F51+'3. 교육이수 현황(소속 기준)'!F52+'3. 교육이수 현황(소속 기준)'!F53+'3. 교육이수 현황(소속 기준)'!F54+'3. 교육이수 현황(소속 기준)'!F55+'3. 교육이수 현황(소속 기준)'!F59+'3. 교육이수 현황(소속 기준)'!F60+'3. 교육이수 현황(소속 기준)'!F61+'3. 교육이수 현황(소속 기준)'!F62+'3. 교육이수 현황(소속 기준)'!F63+'3. 교육이수 현황(소속 기준)'!F64+'3. 교육이수 현황(소속 기준)'!F65+'3. 교육이수 현황(소속 기준)'!F66+'3. 교육이수 현황(소속 기준)'!F67+'3. 교육이수 현황(소속 기준)'!F68+'3. 교육이수 현황(소속 기준)'!F69+'3. 교육이수 현황(소속 기준)'!F70+'3. 교육이수 현황(소속 기준)'!F89+'3. 교육이수 현황(소속 기준)'!F90","v":194},{"$f":"C9-D9","v":393},{"$f":"D9/C9","v":0.33049403747870526}]
[null,"소프트웨어디지털\n헬스케어융합대학\n[보건과학대학원 포함]",{"$f":"'3. 교육이수 현황(소속 기준)'!E17+'3. 교육이수 현황(소속 기준)'!E56+'3. 교육이수 현황(소속 기준)'!E57+'3. 교육이수 현황(소속 기준)'!E58+'3. 교육이수 현황(소속 기준)'!E79+'3. 교육이수 현황(소속 기준)'!E80+'3. 교육이수 현황(소속 기준)'!E81+'3. 교육이수 현황(소속 기준)'!E82+'3. 교육이수 현황(소속 기준)'!E83+'3. 교육이수 현황(소속 기준)'!E84+'3. 교육이수 현황(소속 기준)'!E85+'3. 교육이수 현황(소속 기준)'!E86+'3. 교육이수 현황(소속 기준)'!E87+'3. 교육이수 현황(소속 기준)'!E88+'3. 교육이수 현황(소속 기준)'!E91+'3. 교육이수 현황(소속 기준)'!E92+'3. 교육이수 현황(소속 기준)'!E93+'3. 교육이수 현황(소속 기준)'!E94+'3. 교육이수 현황(소속 기준)'!E95+'3. 교육이수 현황(소속 기준)'!E96+'3. 교육이수 현황(소속 기준)'!E97+'3. 교육이수 현황(소속 기준)'!E98+'3. 교육이수 현황(소속 기준)'!E99+'3. 교육이수 현황(소속 기준)'!E100+'3. 교육이수 현황(소속 기준)'!E101+'3. 교육이수 현황(소속 기준)'!E102+'3. 교육이수 현황(소속 기준)'!E103+'3. 교육이수 현황(소속 기준)'!E104+'3. 교육이수 현황(소속 기준)'!E105+'3. 교육이수 현황(소속 기준)'!E106+'3. 교육이수 현황(소속 기준)'!E107+'3. 교육이수 현황(소속 기준)'!E108+'3. 교육이수 현황(소속 기준)'!E109+'3. 교육이수 현황(소속 기준)'!E110+'3. 교육이수 현황(소속 기준)'!E111","v":1683},{"$f":"'3. 교육이수 현황(소속 기준)'!F17+'3. 교육이수 현황(소속 기준)'!F56+'3. 교육이수 현황(소속 기준)'!F57+'3. 교육이수 현황(소속 기준)'!F58+'3. 교육이수 현황(소속 기준)'!F79+'3. 교육이수 현황(소속 기준)'!F80+'3. 교육이수 현황(소속 기준)'!F81+'3. 교육이수 현황(소속 기준)'!F82+'3. 교육이수 현황(소속 기준)'!F83+'3. 교육이수 현황(소속 기준)'!F84+'3. 교육이수 현황(소속 기준)'!F85+'3. 교육이수 현황(소속 기준)'!F86+'3. 교육이수 현황(소속 기준)'!F87+'3. 교육이수 현황(소속 기준)'!F88+'3. 교육이수 현황(소속 기준)'!F91+'3. 교육이수 현황(소속 기준)'!F92+'3. 교육이수 현황(소속 기준)'!F93+'3. 교육이수 현황(소속 기준)'!F94+'3. 교육이수 현황(소속 기준)'!F95+'3. 교육이수 현황(소속 기준)'!F96+'3. 교육이수 현황(소속 기준)'!F97+'3. 교육이수 현황(소속 기준)'!F98+'3. 교육이수 현황(소속 기준)'!F99+'3. 교육이수 현황(소속 기준)'!F100+'3. 교육이수 현황(소속 기준)'!F101+'3. 교육이수 현황(소속 기준)'!F102+'3. 교육이수 현황(소속 기준)'!F103+'3. 교육이수 현황(소속 기준)'!F104+'3. 교육이수 현황(소속 기준)'!F105+'3. 교육이수 현황(소속 기준)'!F106+'3. 교육이수 현황(소속 기준)'!F107+'3. 교육이수 현황(소속 기준)'!F108+'3. 교육이수 현황(소속 기준)'!F109+'3. 교육이수 현황(소속 기준)'!F110+'3. 교육이수 현황(소속 기준)'!F111","v":378},1305,0.22459893048128343]
[null,"RC융합대학",{"$f":"'3. 교육이수 현황(소속 기준)'!E40+'3. 교육이수 현황(소속 기준)'!E41+'3. 교육이수 현황(소속 기준)'!E42+'3. 교육이수 현황(소속 기준)'!E43+'3. 교육이수 현황(소속 기준)'!E44+'3. 교육이수 현황(소속 기준)'!E45+'3. 교육이수 현황(소속 기준)'!E46+'3. 교육이수 현황(소속 기준)'!E47+'3. 교육이수 현황(소속 기준)'!E48+'3. 교육이수 현황(소속 기준)'!E49+'3. 교육이수 현황(소속 기준)'!E50","v":800},{"$f":"'3. 교육이수 현황(소속 기준)'!F40+'3. 교육이수 현황(소속 기준)'!F41+'3. 교육이수 현황(소속 기준)'!F42+'3. 교육이수 현황(소속 기준)'!F43+'3. 교육이수 현황(소속 기준)'!F44+'3. 교육이수 현황(소속 기준)'!F45+'3. 교육이수 현황(소속 기준)'!F46+'3. 교육이수 현황(소속 기준)'!F47+'3. 교육이수 현황(소속 기준)'!F48+'3. 교육이수 현황(소속 기준)'!F49+'3. 교육이수 현황(소속 기준)'!F50","v":269},531,0.33624999999999999]
[null,"반도체시스템공학부",{"$f":"'3. 교육이수 현황(소속 기준)'!E76+'3. 교육이수 현황(소속 기준)'!E77+'3. 교육이수 현황(소속 기준)'!E78","v":119},{"$f":"'3. 교육이수 현황(소속 기준)'!F76+'3. 교육이수 현황(소속 기준)'!F77+'3. 교육이수 현황(소속 기준)'!F78","v":0},119,0]
["소 계",null,{"$f":"SUM(C8:C12)","v":3442},{"$f":"SUM(D8:D12)","v":899},{"$f":"SUM(C13-D13)","v":2543},{"$f":"D13/C13","v":0.26118535735037768}]
["대학원생","글로벌창의융합대학\n디자인예술학부",{"$f":"'3. 교육이수 현황(소속 기준)'!E19+'3. 교육이수 현황(소속 기준)'!E27+'3. 교육이수 현황(소속 기준)'!E29","v":27},{"$f":"'3. 교육이수 현황(소속 기준)'!F19+'3. 교육이수 현황(소속 기준)'!F27+'3. 교육이수 현황(소속 기준)'!F29","v":5},{"$f":"C14-D14","v":22},{"$f":"D14/C14","v":0.18518518518518517}]
[null,"과학기술융합대학",{"$f":"'3. 교육이수 현황(소속 기준)'!E23+'3. 교육이수 현황(소속 기준)'!E28+'3. 교육이수 현황(소속 기준)'!E36+'3. 교육이수 현황(소속 기준)'!E37+'3. 교육이수 현황(소속 기준)'!E38+'3. 교육이수 현황(소속 기준)'!E39","v":125},{"$f":"'3. 교육이수 현황(소속 기준)'!F23+'3. 교육이수 현황(소속 기준)'!F28+'3. 교육이수 현황(소속 기준)'!F36+'3. 교육이수 현황(소속 기준)'!F37+'3. 교육이수 현황(소속 기준)'!F38+'3. 교육이수 현황(소속 기준)'!F39","v":61},{"$f":"C15-D15","v":64},0.48799999999999999]
[null,"소프트웨어디지털\n헬스케어융합대학\n[보건과학대학원 포함]",{"$f":"'3. 교육이수 현황(소속 기준)'!E8+'3. 교육이수 현황(소속 기준)'!E9+'3. 교육이수 현황(소속 기준)'!E10+'3. 교육이수 현황(소속 기준)'!E11+'3. 교육이수 현황(소속 기준)'!E12+'3. 교육이수 현황(소속 기준)'!E13+'3. 교육이수 현황(소속 기준)'!E14+'3. 교육이수 현황(소속 기준)'!E15+'3. 교육이수 현황(소속 기준)'!E16+'3. 교육이수 현황(소속 기준)'!E18+'3. 교육이수 현황(소속 기준)'!E20+'3. 교육이수 현황(소속 기준)'!E21+'3. 교육이수 현황(소속 기준)'!E22+'3. 교육이수 현황(소속 기준)'!E24+'3. 교육이수 현황(소속 기준)'!E25+'3. 교육이수 현황(소속 기준)'!E26++'3. 교육이수 현황(소속 기준)'!E30+'3. 교육이수 현황(소속 기준)'!E31+'3. 교육이수 현황(소속 기준)'!E32+'3. 교육이수 현황(소속 기준)'!E33+'3. 교육이수 현황(소속 기준)'!E34+'3. 교육이수 현황(소속 기준)'!E35","v":493},{"$f":"'3. 교육이수 현황(소속 기준)'!F8+'3. 교육이수 현황(소속 기준)'!F9+'3. 교육이수 현황(소속 기준)'!F10+'3. 교육이수 현황(소속 기준)'!F11+'3. 교육이수 현황(소속 기준)'!F12+'3. 교육이수 현황(소속 기준)'!F13+'3. 교육이수 현황(소속 기준)'!F14+'3. 교육이수 현황(소속 기준)'!F15+'3. 교육이수 현황(소속 기준)'!F16+'3. 교육이수 현황(소속 기준)'!F18+'3. 교육이수 현황(소속 기준)'!F20+'3. 교육이수 현황(소속 기준)'!F21+'3. 교육이수 현황(소속 기준)'!F22+'3. 교육이수 현황(소속 기준)'!F24+'3. 교육이수 현황(소속 기준)'!F25+'3. 교육이수 현황(소속 기준)'!F26++'3. 교육이수 현황(소속 기준)'!F30+'3. 교육이수 현황(소속 기준)'!F31+'3. 교육이수 현황(소속 기준)'!F32+'3. 교육이수 현황(소속 기준)'!F33+'3. 교육이수 현황(소속 기준)'!F34+'3. 교육이수 현황(소속 기준)'!F35","v":187},{"$f":"C16-D16","v":306},0.37931034482758619]
["소 계",null,{"$f":"SUM(C14:C16)","v":645},{"$f":"SUM(D14:D16)","v":253},{"$f":"SUM(C17-D17)","v":392},0.39224806201550388]
["연구원","원주산학협력단",{"$f":"'3. 교육이수 현황(소속 기준)'!E6","v":42},{"$f":"'3. 교육이수 현황(소속 기준)'!F6","v":19},{"$f":"C18-D18","v":23},0.45238095238095238]
["소 계",null,{"$f":"C18","v":42},{"$f":"D18","v":19},23,{"$f":"D19/C19","v":0.45238095238095238}]
["합계",null,{"$f":"SUM(C7+C13+C17+C19)","v":4284},{"$f":"SUM(D7+D13+D17+D19)","v":1225},{"$f":"SUM(C20-D20)","v":3059},0.28594771241830064]

{"sheet":"3. 교육이수 현황(소속 기준)","index":2,"n_rows":116,"n_cols":8,"rows_kept":116,"cut":false,"hidden":false,"merged":[[2,5,2,7],[115,0,115,1],[1,0,1,7],[2,0,2,3]]}
[]
["2025학년도 2학기 연구활동종사자 정기안전교육 이수율 현황[소속 기준]"]
[{"$nulls":5},"[기준: 2025.10.27.최종]"]
["순번","소속1","소속2","소속3","대상자","이수자","미이수자","이수율"]
[1,"교직원","전임교원","전임교원",145,49,{"$f":"E5-F5","v":96},{"$f":"F5/E5","v":0.33793103448275863}]
[2,"소속외연구실","원주산학협력단","원주산학협력단",42,19,{"$f":"E6-F6","v":23},{"$f":"F6/E6","v":0.45238095238095238}]
[3,"직원","실습지원 직원","실습지원 직원",10,5,5,0.5]
[4,"보건과학대학원","보건과학대학원","과학수사학전공",19,0,{"$f":"E8-F8","v":19},{"$f":"F8/E8","v":0}]
[5,"보건과학대학원","보건과학대학원","구강건강증진학전공",10,8,2,0.8]
[6,"보건과학대학원","보건과학대학원","보건관리학전공",21,0,21,0]
[7,"보건과학대학원","보건과학대학원","의생명과학전공",18,4,14,0.22222222222222221]
[8,"보건과학대학원","보건과학대학원","인간공학치료학전공",13,0,13,0]
[9,"보건과학대학원","보건과학대학원","헬스케어융합학전공",8,0,8,0]
[10,"보건과학대학원","보건과학대학원","환경공학전공",11,0,11,0]
[11,"보건환경대학원","보건환경대학원","보건관리학전공",1,0,1,0]
[12,"보건환경대학원","보건환경대학원","의생명과학전공",1,0,1,0]
[13,"의과대학(치위생)","원주의과대학","치위생학과",5,4,1,0.8]
[14,"일반대학원","일반대학원(원주)","YM-KIST 바이오헬스융합학과",1,0,1,0]
[15,"일반대학원","일반대학원(원주)","디자인경영학협동과정",1,0,1,0]
[16,"일반대학원","일반대학원(원주)","디지털헬스케어학과",5,2,3,0.4]
[17,"일반대학원","일반대학원(원주)","로보틱아트학과",1,1,0,1]
[18,"일반대학원","일반대학원(원주)","물리치료학과",65,13,52,0.2]
[19,"일반대학원","일반대학원(원주)","물리학과",3,0,3,0]
[20,"일반대학원","일반대학원(원주)","방사선융합공학과",37,10,27,0.27027027027027029]
[21,"일반대학원","일반대학원(원주)","보건정책 및 관리학협동과정",15,0,15,0]
[22,"일반대학원","일반대학원(원주)","보건행정학과",50,13,37,0.26]
[23,"일반대학원","일반대학원(원주)","산업디자인학과",9,0,9,0]
[24,"일반대학원","일반대학원(원주)","생명과학기술학",20,10,10,0.5]
[25,"일반대학원","일반대학원(원주)","시각디자인학과",17,5,12,0.29411764705882354]
[26,"일반대학원","일반대학원(원주)","의공학과",66,47,19,0.71212121212121215]
[27,"일반대학원","일반대학원(원주)","임상병리학과",21,17,4,0.80952380952380953]
[28,"일반대학원","일반대학원(원주)","작업치료학과",57,51,6,0.89473684210526316]
[29,"일반대학원","일반대학원(원주)","전산학과",43,7,36,0.16279069767441862]
[30,"일반대학원","일반대학원(원주)","정보통계학과",7,0,7,0]
[31,"일반대학원","일반대학원(원주)","치위생학과",23,14,9,0.60869565217391308]
[32,"일반대학원","일반대학원(원주)","패키징학과",35,4,31,0.11428571428571428]
[33,"일반대학원","일반대학원(원주)","화학과",24,22,2,0.91666666666666663]
[34,"일반대학원","일반대학원(원주)","환경공학과",13,6,7,0.46153846153846156]
[35,"일반대학원","일반대학원(원주)","환경에너지공학과",30,19,11,0.6333333333333333]
[36,"학부(미래)","RC융합대학","AI반도체학부",82,1,81,1.2195121951219513E-2]
[37,"학부(미래)","RC융합대학","데이터사이언스학부",37,4,33,0.10810810810810811]
[38,"학부(미래)","RC융합대학","디자인예술학부",67,10,57,0.14925373134328357]
[39,"학부(미래)","RC융합대학","디지털헬스케어학부",50,0,50,0]
[40,"학부(미래)","RC융합대학","물리치료학과",69,43,26,0.62318840579710144]
[41,"학부(미래)","RC융합대학","방사선학과",34,0,34,0]
[42,"학부(미래)","RC융합대학","소프트웨어학부",114,1,113,8.771929824561403E-3]
[43,"학부(미래)","RC융합대학","임상병리학과",47,3,44,6.3829787234042548E-2]
[44,"학부(미래)","RC융합대학","자율융합계열",236,180,56,0.76271186440677963]
[45,"학부(미래)","RC융합대학","작업치료학과",37,0,37,0]
[46,"학부(미래)","RC융합대학","치위생학과",27,27,0,1]
[47,"학부(미래)","과학기술대학","물리학",11,0,11,0]
[48,"학부(미래)","과학기술대학","생명과학",8,0,8,0]
[49,"학부(미래)","과학기술대학","생명과학기술학부",4,1,3,0.25]
[50,"학부(미래)","과학기술대학","수학",6,0,6,0]
[51,"학부(미래)","과학기술대학","응용생명과학",20,4,16,0.2]
[52,"학부(미래)","과학기술대학","정보통계학",22,1,21,4.5454545454545456E-2]
[53,"학부(미래)","과학기술대학","컴퓨터공학",8,0,8,0]
[54,"학부(미래)","과학기술대학","컴퓨터정보통신공학부",60,0,60,0]
[55,"학부(미래)","과학기술대학","패키징학",16,2,14,0.125]
[56,"학부(미래)","과학기술대학","화학및의화학",34,11,23,0.3235294117647059]
[57,"학부(미래)","과학기술융합대학","AI반도체학전공",2,0,2,0]
[58,"학부(미래)","과학기술융합대학","물리및공학물리학전공",42,5,37,0.11904761904761904]
[59,"학부(미래)","과학기술융합대학","생명과학기술학부",4,1,3,0.25]
[60,"학부(미래)","과학기술융합대학","생명과학기술학전공",150,55,95,0.36666666666666664]
[61,"학부(미래)","과학기술융합대학","친환경에너지공학전공",46,11,35,0.2391304347826087]
[62,"학부(미래)","과학기술융합대학","패키징및물류학심화전공",1,0,1,0]
[63,"학부(미래)","과학기술융합대학","패키징및물류학전공",47,14,33,0.2978723404255319]
[64,"학부(미래)","과학기술융합대학","화학및의화학전공",103,70,33,0.67961165048543692]
[65,"학부(미래)","과학기술융합대학","환경공학전공",48,16,{"$f":"E69-F69","v":32},0.33333333333333331]
[66,"학부(미래)","과학기술융합대학","환경에너지공학부",3,0,3,{"$f":"F70/E70","v":0}]
[67,"학부(미래)","글로벌창의융합대학","고위자과정",2,2,0,1]
[68,"학부(미래)","글로벌창의융합대학","디자인예술학부",2,0,2,0]
[69,"학부(미래)","글로벌창의융합대학","디지털아트학전공",27,16,11,0.59259259259259256]
[70,"학부(미래)","글로벌창의융합대학","산업디자인학전공",41,6,35,0.14634146341463414]
[71,"학부(미래)","글로벌창의융합대학","시각디자인학",107,23,84,0.21495327102803738]
[72,"학부(미래)","반도체시스템공학부","반도체시스템융합공학전공",30,0,30,0]
[73,"학부(미래)","반도체시스템공학부","반도체인프라및환경융합전공",30,0,30,0]
[74,"학부(미래)","반도체시스템공학부","응용전기전자융합공학전공",59,0,59,0]
[75,"학부(미래)","보건과학대학","물리치료학과",27,1,26,3.7037037037037035E-2]
[76,"학부(미래)","보건과학대학","방사선학과",14,0,14,0]
[77,"학부(미래)","보건과학대학","보건.환경.의공학부",1,1,0,1]
[78,"학부(미래)","보건과학대학","보건과학부 분자진단과학전공",15,6,9,0.4]
[79,"학부(미래)","보건과학대학","보건과학부 재활보건학전공",1,0,1,0]
[80,"학부(미래)","보건과학대학","보건행정학과",17,0,17,0]
[81,"학부(미래)","보건과학대학","의공학부",50,7,43,0.14000000000000001]
[82,"학부(미래)","보건과학대학","의료시스템공학",4,1,3,0.25]
[83,"학부(미래)","보건과학대학","임상병리학과",11,10,1,0.90909090909090906]
[84,"학부(미래)","보건과학대학","작업치료학과",5,0,5,0]
[85,"학부(미래)","보건과학대학","환경공학",1,0,1,0]
[86,"학부(미래)","보건과학대학","환경공학부",41,4,37,9.7560975609756101E-2]
[87,"학부(미래)","소프트웨어디지털헬스케어융합대학","AI보건정보관리학과",29,0,29,0]
[88,"학부(미래)","소프트웨어디지털헬스케어융합대학","데이터사이언스학부",2,0,2,0]
[89,"학부(미래)","소프트웨어디지털헬스케어융합대학","데이터사이언스학전공",60,0,60,0]
[90,"학부(미래)","소프트웨어디지털헬스케어융합대학","디지털헬스케어전공",105,7,98,6.6666666666666666E-2]
[91,"학부(미래)","소프트웨어디지털헬스케어융합대학","디지털헬스케어학부",2,0,2,0]
[92,"학부(미래)","소프트웨어디지털헬스케어융합대학","물리치료학과",87,9,78,0.10344827586206896]
[93,"학부(미래)","소프트웨어디지털헬스케어융합대학","바이오공학전공",41,6,35,0.14634146341463414]
[94,"학부(미래)","소프트웨어디지털헬스케어융합대학","방사선학과",115,7,108,6.0869565217391307E-2]
[95,"학부(미래)","소프트웨어디지털헬스케어융합대학","보건과학부",1,0,1,0]
[96,"학부(미래)","소프트웨어디지털헬스케어융합대학","보건과학부 재활보건학전공",38,0,38,{"$f":"F100/E100","v":0}]
[97,"학부(미래)","소프트웨어디지털헬스케어융합대학","보건의료정보관리학전공",28,0,28,0]
[98,"학부(미래)","소프트웨어디지털헬스케어융합대학","보건행정학부",5,0,5,0]
[99,"학부(미래)","소프트웨어디지털헬스케어융합대학","보건행정학전공",112,7,105,6.25E-2]
[100,"학부(미래)","소프트웨어디지털헬스케어융합대학","소프트웨어전공",280,14,266,0.05]
[101,"학부(미래)","소프트웨어디지털헬스케어융합대학","소프트웨어학부",6,0,6,0]
[102,"학부(미래)","소프트웨어디지털헬스케어융합대학","의공학부",2,1,1,0.5]
[103,"학부(미래)","소프트웨어디지털헬스케어융합대학","의공학전공",159,54,105,0.33962264150943394]
[104,"학부(미래)","소프트웨어디지털헬스케어융합대학","임상병리학과",160,156,4,{"$f":"F108/E108","v":0.97499999999999998}]
[105,"학부(미래)","소프트웨어디지털헬스케어융합대학","작업치료학과",107,2,105,1.8691588785046728E-2]
[106,"학부(미래)","소프트웨어디지털헬스케어융합대학","치위생학과",84,84,0,1]
[107,"학부(미래)","소프트웨어디지털헬스케어융합대학","헬스케어빅데이터전공",20,0,20,0]
[108,"학부(미래)","인문예술대학","디자인예술학부",68,10,58,0.14705882352941177]
[109,"학부(미래)","인문예술대학","디지털아트학",1,0,1,0]
[110,"학부(미래)","인문예술대학","산업디자인학",1,0,1,0]
[111,"학부(미래)","인문예술대학","시각디자인학",4,1,{"$f":"E115-F115","v":3},0.25]
["합계(명)",null,null,null,{"$f":"SUM(E5:E115)","v":4284},{"$f":"SUM(F5:F115)","v":1225},{"$f":"SUM(G5:G115)","v":3059},0.28594771241830064]

{"sheet":"4. 교육이수 현황(이수율 기준)","index":3,"n_rows":116,"n_cols":8,"rows_kept":116,"cut":false,"hidden":false,"merged":[[1,0,1,7],[2,0,2,3],[2,5,2,7],[115,0,115,1]]}
[]
["2025학년도 2학기 연구활동종사자 정기안전교육 이수율 현황[소속 기준]"]
[{"$nulls":5},"[기준: 2025.10.27.최종]"]
["순번","소속1","소속2","소속3","대상자","이수자","미이수자","이수율"]
[1,"일반대학원","일반대학원(원주)","로보틱아트학과",1,1,{"$f":"E5-F5","v":0},{"$f":"F5/E5","v":1}]
[2,"학부(미래)","RC융합대학","치위생학과",27,27,{"$f":"E6-F6","v":0},{"$f":"F6/E6","v":1}]
[3,"학부(미래)","글로벌창의융합대학","고위자과정",2,2,{"$f":"E7-F7","v":0},{"$f":"F7/E7","v":1}]
[4,"학부(미래)","보건과학대학","보건.환경.의공학부",1,1,{"$f":"E8-F8","v":0},{"$f":"F8/E8","v":1}]
[5,"학부(미래)","소프트웨어디지털헬스케어융합대학","치위생학과",84,84,{"$f":"E9-F9","v":0},{"$f":"F9/E9","v":1}]
[6,"학부(미래)","소프트웨어디지털헬스케어융합대학","임상병리학과",160,156,{"$f":"E10-F10","v":4},{"$f":"F10/E10","v":0.97499999999999998}]
[7,"일반대학원","일반대학원(원주)","화학과",24,22,{"$f":"E11-F11","v":2},{"$f":"F11/E11","v":0.91666666666666663}]
[8,"학부(미래)","보건과학대학","임상병리학과",11,10,{"$f":"E12-F12","v":1},{"$f":"F12/E12","v":0.90909090909090906}]
[9,"일반대학원","일반대학원(원주)","작업치료학과",57,51,{"$f":"E13-F13","v":6},{"$f":"F13/E13","v":0.89473684210526316}]
[10,"일반대학원","일반대학원(원주)","임상병리학과",21,17,{"$f":"E14-F14","v":4},{"$f":"F14/E14","v":0.80952380952380953}]
[11,"보건과학대학원","보건과학대학원","구강건강증진학전공",10,8,{"$f":"E15-F15","v":2},{"$f":"F15/E15","v":0.8}]
[12,"의과대학(치위생)","원주의과대학","치위생학과",5,4,{"$f":"E16-F16","v":1},{"$f":"F16/E16","v":0.8}]
[13,"학부(미래)","RC융합대학","자율융합계열",236,180,{"$f":"E17-F17","v":56},{"$f":"F17/E17","v":0.76271186440677963}]
[14,"일반대학원","일반대학원(원주)","의공학과",66,47,{"$f":"E18-F18","v":19},{"$f":"F18/E18","v":0.71212121212121215}]
[15,"학부(미래)","과학기술융합대학","화학및의화학전공",103,70,{"$f":"E19-F19","v":33},{"$f":"F19/E19","v":0.67961165048543692}]
[16,"일반대학원","일반대학원(원주)","환경에너지공학과",30,19,{"$f":"E20-F20","v":11},{"$f":"F20/E20","v":0.6333333333333333}]
[17,"학부(미래)","RC융합대학","물리치료학과",69,43,{"$f":"E21-F21","v":26},{"$f":"F21/E21","v":0.62318840579710144}]
[18,"일반대학원","일반대학원(원주)","치위생학과",23,14,{"$f":"E22-F22","v":9},{"$f":"F22/E22","v":0.60869565217391308}]
[19,"학부(미래)","글로벌창의융합대학","디지털아트학전공",27,16,{"$f":"E23-F23","v":11},{"$f":"F23/E23","v":0.59259259259259256}]
[20,"직원","실습지원 직원","실습지원 직원",10,5,{"$f":"E24-F24","v":5},{"$f":"F24/E24","v":0.5}]
[21,"일반대학원","일반대학원(원주)","생명과학기술학",20,10,{"$f":"E25-F25","v":10},{"$f":"F25/E25","v":0.5}]
[22,"학부(미래)","소프트웨어디지털헬스케어융합대학","의공학부",2,1,{"$f":"E26-F26","v":1},{"$f":"F26/E26","v":0.5}]
[23,"일반대학원","일반대학원(원주)","환경공학과",13,6,{"$f":"E27-F27","v":7},{"$f":"F27/E27","v":0.46153846153846156}]
[24,"소속외연구실","원주산학협력단","원주산학협력단",42,19,{"$f":"E28-F28","v":23},{"$f":"F28/E28","v":0.45238095238095238}]
[25,"일반대학원","일반대학원(원주)","디지털헬스케어학과",5,2,{"$f":"E29-F29","v":3},{"$f":"F29/E29","v":0.4}]
[26,"학부(미래)","보건과학대학","보건과학부 분자진단과학전공",15,6,{"$f":"E30-F30","v":9},{"$f":"F30/E30","v":0.4}]
[27,"학부(미래)","과학기술융합대학","생명과학기술학전공",150,55,{"$f":"E31-F31","v":95},{"$f":"F31/E31","v":0.36666666666666664}]
[28,"학부(미래)","소프트웨어디지털헬스케어융합대학","의공학전공",159,54,{"$f":"E32-F32","v":105},{"$f":"F32/E32","v":0.33962264150943394}]
[29,"교직원","전임교원","전임교원",145,49,{"$f":"E33-F33","v":96},{"$f":"F33/E33","v":0.33793103448275863}]
[30,"학부(미래)","과학기술융합대학","환경공학전공",48,16,{"$f":"E34-F34","v":32},{"$f":"F34/E34","v":0.33333333333333331}]
[31,"학부(미래)","과학기술대학","화학및의화학",34,11,{"$f":"E35-F35","v":23},{"$f":"F35/E35","v":0.3235294117647059}]
[32,"학부(미래)","과학기술융합대학","패키징및물류학전공",47,14,{"$f":"E36-F36","v":33},{"$f":"F36/E36","v":0.2978723404255319}]
[33,"일반대학원","일반대학원(원주)","시각디자인학과",17,5,{"$f":"E37-F37","v":12},{"$f":"F37/E37","v":0.29411764705882354}]
[34,"일반대학원","일반대학원(원주)","방사선융합공학과",37,10,{"$f":"E38-F38","v":27},{"$f":"F38/E38","v":0.27027027027027029}]
[35,"일반대학원","일반대학원(원주)","보건행정학과",50,13,{"$f":"E39-F39","v":37},{"$f":"F39/E39","v":0.26}]
[36,"학부(미래)","과학기술대학","생명과학기술학부",4,1,{"$f":"E40-F40","v":3},{"$f":"F40/E40","v":0.25}]
[37,"학부(미래)","과학기술융합대학","생명과학기술학부",4,1,{"$f":"E41-F41","v":3},{"$f":"F41/E41","v":0.25}]
[38,"학부(미래)","보건과학대학","의료시스템공학",4,1,{"$f":"E42-F42","v":3},{"$f":"F42/E42","v":0.25}]
[39,"학부(미래)","인문예술대학","시각디자인학",4,1,{"$f":"E43-F43","v":3},{"$f":"F43/E43","v":0.25}]
[40,"학부(미래)","과학기술융합대학","친환경에너지공학전공",46,11,{"$f":"E44-F44","v":35},{"$f":"F44/E44","v":0.2391304347826087}]
[41,"보건과학대학원","보건과학대학원","의생명과학전공",18,4,{"$f":"E45-F45","v":14},{"$f":"F45/E45","v":0.22222222222222221}]
[42,"학부(미래)","글로벌창의융합대학","시각디자인학",107,23,{"$f":"E46-F46","v":84},{"$f":"F46/E46","v":0.21495327102803738}]
[43,"일반대학원","일반대학원(원주)","물리치료학과",65,13,{"$f":"E47-F47","v":52},{"$f":"F47/E47","v":0.2}]
[44,"학부(미래)","과학기술대학","응용생명과학",20,4,{"$f":"E48-F48","v":16},{"$f":"F48/E48","v":0.2}]
[45,"일반대학원","일반대학원(원주)","전산학과",43,7,{"$f":"E49-F49","v":36},{"$f":"F49/E49","v":0.16279069767441862}]
[46,"학부(미래)","RC융합대학","디자인예술학부",67,10,{"$f":"E50-F50","v":57},{"$f":"F50/E50","v":0.14925373134328357}]
[47,"학부(미래)","인문예술대학","디자인예술학부",68,10,{"$f":"E51-F51","v":58},{"$f":"F51/E51","v":0.14705882352941177}]
[48,"학부(미래)","글로벌창의융합대학","산업디자인학전공",41,6,{"$f":"E52-F52","v":35},{"$f":"F52/E52","v":0.14634146341463414}]
[49,"학부(미래)","소프트웨어디지털헬스케어융합대학","바이오공학전공",41,6,{"$f":"E53-F53","v":35},{"$f":"F53/E53","v":0.14634146341463414}]
[50,"학부(미래)","보건과학대학","의공학부",50,7,{"$f":"E54-F54","v":43},{"$f":"F54/E54","v":0.14000000000000001}]
[51,"학부(미래)","과학기술대학","패키징학",16,2,{"$f":"E55-F55","v":14},{"$f":"F55/E55","v":0.125}]
[52,"학부(미래)","과학기술융합대학","물리및공학물리학전공",42,5,{"$f":"E56-F56","v":37},{"$f":"F56/E56","v":0.11904761904761904}]
[53,"일반대학원","일반대학원(원주)","패키징학과",35,4,{"$f":"E57-F57","v":31},{"$f":"F57/E57","v":0.11428571428571428}]
[54,"학부(미래)","RC융합대학","데이터사이언스학부",37,4,{"$f":"E58-F58","v":33},{"$f":"F58/E58","v":0.10810810810810811}]
[55,"학부(미래)","소프트웨어디지털헬스케어융합대학","물리치료학과",87,9,{"$f":"E59-F59","v":78},{"$f":"F59/E59","v":0.10344827586206896}]
[56,"학부(미래)","보건과학대학","환경공학부",41,4,{"$f":"E60-F60","v":37},{"$f":"F60/E60","v":9.7560975609756101E-2}]
[57,"학부(미래)","소프트웨어디지털헬스케어융합대학","디지털헬스케어전공",105,7,{"$f":"E61-F61","v":98},{"$f":"F61/E61","v":6.6666666666666666E-2}]
[58,"학부(미래)","RC융합대학","임상병리학과",47,3,{"$f":"E62-F62","v":44},{"$f":"F62/E62","v":6.3829787234042548E-2}]
[59,"학부(미래)","소프트웨어디지털헬스케어융합대학","보건행정학전공",112,7,{"$f":"E63-F63","v":105},{"$f":"F63/E63","v":6.25E-2}]
[60,"학부(미래)","소프트웨어디지털헬스케어융합대학","방사선학과",115,7,{"$f":"E64-F64","v":108},{"$f":"F64/E64","v":6.0869565217391307E-2}]
[61,"학부(미래)","소프트웨어디지털헬스케어융합대학","소프트웨어전공",280,14,{"$f":"E65-F65","v":266},{"$f":"F65/E65","v":0.05}]
[62,"학부(미래)","과학기술대학","정보통계학",22,1,{"$f":"E66-F66","v":21},{"$f":"F66/E66","v":4.5454545454545456E-2}]
[63,"학부(미래)","보건과학대학","물리치료학과",27,1,{"$f":"E67-F67","v":26},{"$f":"F67/E67","v":3.7037037037037035E-2}]
[64,"학부(미래)","소프트웨어디지털헬스케어융합대학","작업치료학과",107,2,{"$f":"E68-F68","v":105},{"$f":"F68/E68","v":1.8691588785046728E-2}]
[65,"학부(미래)","RC융합대학","AI반도체학부",82,1,{"$f":"E69-F69","v":81},{"$f":"F69/E69","v":1.2195121951219513E-2}]
[66,"학부(미래)","RC융합대학","소프트웨어학부",114,1,{"$f":"E70-F70","v":113},{"$f":"F70/E70","v":8.771929824561403E-3}]
[67,"보건과학대학원","보건과학대학원","과학수사학전공",19,0,{"$f":"E71-F71","v":19},{"$f":"F71/E71","v":0}]
[68,"보건과학대학원","보건과학대학원","보건관리학전공",21,0,{"$f":"E72-F72","v":21},{"$f":"F72/E72","v":0}]
[69,"보건과학대학원","보건과학대학원","인간공학치료학전공",13,0,{"$f":"E73-F73","v":13},{"$f":"F73/E73","v":0}]
[70,"보건과학대학원","보건과학대학원","헬스케어융합학전공",8,0,{"$f":"E74-F74","v":8},{"$f":"F74/E74","v":0}]
[71,"보건과학대학원","보건과학대학원","환경공학전공",11,0,{"$f":"E75-F75","v":11},{"$f":"F75/E75","v":0}]
[72,"보건환경대학원","보건환경대학원","보건관리학전공",1,0,{"$f":"E76-F76","v":1},{"$f":"F76/E76","v":0}]
[73,"보건환경대학원","보건환경대학원","의생명과학전공",1,0,{"$f":"E77-F77","v":1},{"$f":"F77/E77","v":0}]
[74,"일반대학원","일반대학원(원주)","YM-KIST 바이오헬스융합학과",1,0,{"$f":"E78-F78","v":1},{"$f":"F78/E78","v":0}]
[75,"일반대학원","일반대학원(원주)","디자인경영학협동과정",1,0,{"$f":"E79-F79","v":1},{"$f":"F79/E79","v":0}]
[76,"일반대학원","일반대학원(원주)","물리학과",3,0,{"$f":"E80-F80","v":3},{"$f":"F80/E80","v":0}]
[77,"일반대학원","일반대학원(원주)","보건정책 및 관리학협동과정",15,0,{"$f":"E81-F81","v":15},{"$f":"F81/E81","v":0}]
[78,"일반대학원","일반대학원(원주)","산업디자인학과",9,0,{"$f":"E82-F82","v":9},{"$f":"F82/E82","v":0}]
[79,"일반대학원","일반대학원(원주)","정보통계학과",7,0,{"$f":"E83-F83","v":7},{"$f":"F83/E83","v":0}]
[80,"학부(미래)","RC융합대학","디지털헬스케어학부",50,0,{"$f":"E84-F84","v":50},{"$f":"F84/E84","v":0}]
[81,"학부(미래)","RC융합대학","방사선학과",34,0,{"$f":"E85-F85","v":34},{"$f":"F85/E85","v":0}]
[82,"학부(미래)","RC융합대학","작업치료학과",37,0,{"$f":"E86-F86","v":37},{"$f":"F86/E86","v":0}]
[83,"학부(미래)","과학기술대학","물리학",11,0,{"$f":"E87-F87","v":11},{"$f":"F87/E87","v":0}]
[84,"학부(미래)","과학기술대학","생명과학",8,0,{"$f":"E88-F88","v":8},{"$f":"F88/E88","v":0}]
[85,"학부(미래)","과학기술대학","수학",6,0,{"$f":"E89-F89","v":6},{"$f":"F89/E89","v":0}]
[86,"학부(미래)","과학기술대학","컴퓨터공학",8,0,{"$f":"E90-F90","v":8},{"$f":"F90/E90","v":0}]
[87,"학부(미래)","과학기술대학","컴퓨터정보통신공학부",60,0,{"$f":"E91-F91","v":60},{"$f":"F91/E91","v":0}]
[88,"학부(미래)","과학기술융합대학","AI반도체학전공",2,0,{"$f":"E92-F92","v":2},{"$f":"F92/E92","v":0}]
[89,"학부(미래)","과학기술융합대학","패키징및물류학심화전공",1,0,{"$f":"E93-F93","v":1},{"$f":"F93/E93","v":0}]
[90,"학부(미래)","과학기술융합대학","환경에너지공학부",3,0,{"$f":"E94-F94","v":3},{"$f":"F94/E94","v":0}]
[91,"학부(미래)","글로벌창의융합대학","디자인예술학부",2,0,{"$f":"E95-F95","v":2},{"$f":"F95/E95","v":0}]
[92,"학부(미래)","반도체시스템공학부","반도체시스템융합공학전공",30,0,{"$f":"E96-F96","v":30},{"$f":"F96/E96","v":0}]
[93,"학부(미래)","반도체시스템공학부","반도체인프라및환경융합전공",30,0,{"$f":"E97-F97","v":30},{"$f":"F97/E97","v":0}]
[94,"학부(미래)","반도체시스템공학부","응용전기전자융합공학전공",59,0,{"$f":"E98-F98","v":59},{"$f":"F98/E98","v":0}]
[95,"학부(미래)","보건과학대학","방사선학과",14,0,{"$f":"E99-F99","v":14},{"$f":"F99/E99","v":0}]
[96,"학부(미래)","보건과학대학","보건과학부 재활보건학전공",1,0,{"$f":"E100-F100","v":1},{"$f":"F100/E100","v":0}]
[97,"학부(미래)","보건과학대학","보건행정학과",17,0,{"$f":"E101-F101","v":17},{"$f":"F101/E101","v":0}]
[98,"학부(미래)","보건과학대학","작업치료학과",5,0,{"$f":"E102-F102","v":5},{"$f":"F102/E102","v":0}]
[99,"학부(미래)","보건과학대학","환경공학",1,0,{"$f":"E103-F103","v":1},{"$f":"F103/E103","v":0}]
[100,"학부(미래)","소프트웨어디지털헬스케어융합대학","AI보건정보관리학과",29,0,{"$f":"E104-F104","v":29},{"$f":"F104/E104","v":0}]
[101,"학부(미래)","소프트웨어디지털헬스케어융합대학","데이터사이언스학부",2,0,{"$f":"E105-F105","v":2},{"$f":"F105/E105","v":0}]
[102,"학부(미래)","소프트웨어디지털헬스케어융합대학","데이터사이언스학전공",60,0,{"$f":"E106-F106","v":60},{"$f":"F106/E106","v":0}]
[103,"학부(미래)","소프트웨어디지털헬스케어융합대학","디지털헬스케어학부",2,0,{"$f":"E107-F107","v":2},{"$f":"F107/E107","v":0}]
[104,"학부(미래)","소프트웨어디지털헬스케어융합대학","보건과학부",1,0,{"$f":"E108-F108","v":1},{"$f":"F108/E108","v":0}]
[105,"학부(미래)","소프트웨어디지털헬스케어융합대학","보건과학부 재활보건학전공",38,0,{"$f":"E109-F109","v":38},{"$f":"F109/E109","v":0}]
[106,"학부(미래)","소프트웨어디지털헬스케어융합대학","보건의료정보관리학전공",28,0,{"$f":"E110-F110","v":28},{"$f":"F110/E110","v":0}]
[107,"학부(미래)","소프트웨어디지털헬스케어융합대학","보건행정학부",5,0,{"$f":"E111-F111","v":5},{"$f":"F111/E111","v":0}]
[108,"학부(미래)","소프트웨어디지털헬스케어융합대학","소프트웨어학부",6,0,{"$f":"E112-F112","v":6},{"$f":"F112/E112","v":0}]
[109,"학부(미래)","소프트웨어디지털헬스케어융합대학","헬스케어빅데이터전공",20,0,{"$f":"E113-F113","v":20},{"$f":"F113/E113","v":0}]
[110,"학부(미래)","인문예술대학","디지털아트학",1,0,{"$f":"E114-F114","v":1},{"$f":"F114/E114","v":0}]
[111,"학부(미래)","인문예술대학","산업디자인학",1,0,{"$f":"E115-F115","v":1},{"$f":"F115/E115","v":0}]
["합계(명)",null,null,null,{"$f":"SUM(E5:E115)","v":4284},{"$f":"SUM(F5:F115)","v":1225},{"$f":"SUM(G5:G115)","v":3059},{"$f":"F116/E116","v":0.28594771241830064}]